BEGIN:VCALENDAR
VERSION:2.0
PRODID:-//wp-events-plugin.com//7.1.7//EN
TZID:Europe/Berlin
X-WR-TIMEZONE:Europe/Berlin
BEGIN:VEVENT
UID:14@schloss-peuerbach.de
DTSTART;TZID=Europe/Berlin:20261211T160000
DTEND;TZID=Europe/Berlin:20261213T220000
DTSTAMP:20260401T144054Z
URL:https://schloss-peuerbach.de/events/weihnachtszauber-auf-schloss-peuer
 bach/
SUMMARY:Weihnachtszauber auf Schloss Peuerbach
DESCRIPTION:Weihnachten auf dem Schloss ist immer ein ganz besonderes Erleb
 nis.\n\nLassen Sie sich auch in diesem Jahr wieder von der einzigartigen A
 tmosphäre unseres Schlossgartens verzaubern und in eine weihnachtliche St
 immung versetzen.\n\nUrsprünglich\, stimmungsvoll und traditionell wird e
 s auch in diesem Jahr wieder werden.\n\nSo ist es uns nach dem großartige
 n Erfolg unseres Weihnachtsmarktes im letzten Jahr eine Freude\, dass wir 
 in diesem Jahr an zwei Wochenenden diese Veranstaltung durchführen könne
 n.\n\nAm 3. und 4. Adventswochenende\, jeweils von Freitag bis Sonntag wir
 d der "Weihnachtszauber auf Schloss Peuerbach" seine Neuauflage finden.\n\
 nMit ausgesuchten\, regionalen Ausstellern und kulinarischen Köstlichkeit
 en aus der Schlossküche freuen wir uns\, unsere Gäste aus nah und fern i
 m Schlossgarten begrüßen zu können.\n\nSelbstverständlich wird es auch
  wieder ein stimmungsvolles und festliches Rahmenprogramm rund um unseren 
 Weihnachtsmarkt geben. (Dies wird noch rechtzeitig bekannt gegeben.)\n\nDi
 e genauen Öffnungszeiten entnehmen Sie bitte unserem Plakat.\n\nFür das 
 leibliche Wohl ist an allen Tagen gesorgt.\n\n&nbsp\;
ATTACH;FMTTYPE=image/jpeg:https://schloss-peuerbach.de/wp-content/uploads/
 2026/01/IMG_8822.jpg
LOCATION:Schloss Peuerbach in Bayerbach bei Ergoldsbach\, Schlossstrasse 2\
 , Bayerbach bei Ergoldsbach\, Bayern\, 84092\, Niederbayern\, Deutschland
X-APPLE-STRUCTURED-LOCATION;VALUE=URI;X-ADDRESS=Schlossstrasse 2\, Bayerbac
 h bei Ergoldsbach\, Bayern\, 84092\, Niederbayern\, Deutschland;X-APPLE-RA
 DIUS=100;X-TITLE=Schloss Peuerbach in Bayerbach bei Ergoldsbach:geo:0,0
END:VEVENT
BEGIN:VTIMEZONE
TZID:Europe/Berlin
X-LIC-LOCATION:Europe/Berlin
BEGIN:STANDARD
DTSTART:20261025T020000
TZOFFSETFROM:+0200
TZOFFSETTO:+0100
TZNAME:CET
END:STANDARD
END:VTIMEZONE
END:VCALENDAR