BEGIN:VCALENDAR
VERSION:2.0
PRODID:-//wp-events-plugin.com//7.1.7//EN
TZID:Europe/Berlin
X-WR-TIMEZONE:Europe/Berlin
BEGIN:VEVENT
UID:13@schloss-peuerbach.de
DTSTART;TZID=Europe/Berlin:20260814T173000
DTEND;TZID=Europe/Berlin:20260814T234500
DTSTAMP:20260401T143948Z
URL:https://schloss-peuerbach.de/events/white-dinner/
SUMMARY:White Dinner
DESCRIPTION:Sie wollten immer schon einmal an einer langen\, weiß gedeckte
 n Tafel in einem Schlossgarten dinnieren?\n\nDann ist unser "White Dinner"
  am 14. August 2026 genau das Richtige für Sie.\n\nIn diesem Jahr haben S
 ie wieder die Möglichkeit diesen Abend im Schatten unserer alten Schlossb
 äume und unter strahlendem Sternenhimmel zu genießen.\n\nDie Weiß in We
 iß gehaltene Dekoration sorgt für ein einzigartige Arrounding im Schloss
 garten von Schloss Peuerbach. Die in Weiß gekleideten Gäste bilden dazu 
 die perfekte Ergänzung.\n\nEdel und fein beschreibt wohl am besten die St
 immung dieses Abends.\n\nSeinen Ursprung fand das White Dinner in Frankrei
 ch. Was ursprünglich 1988 als "Díner en Blanc" auf den Straßen von Pari
 s begann\, findet heute bei uns in Niederbayern seine neue Interpretation.
 \n\nDas Ziel: Freunde und Bekannte bei köstlichem Essen\, Wein und guten 
 Gesprächen\, in einem ikonischen Ambiente zusammenzubringen.\n\nBei kühl
 en Cocktails\, einem guten Glas Wein und spanischer Kullinarik erleben Sie
  einen unvergesslichen Abend.\n\nFür die musikalische Umrahmung sorgt das
  DUO DE NADA mit spanischen Gitarrenklängen.\n\nDiese Veranstaltung hat s
 eit dem Beginn im letzten Jahr bereits ihre Liebhaber gefunden und wir fre
 uen uns darauf Ihnen diese Veranstaltung wieder anbieten zu können.\n\nVe
 ranstaltungsbeginn: 19 Uhr\n\nEinlass: 17.30 Uhr
ATTACH;FMTTYPE=image/jpeg:https://schloss-peuerbach.de/wp-content/uploads/
 2026/01/IMG_9625.jpg
LOCATION:Schloss Peuerbach in Bayerbach bei Ergoldsbach\, Schlossstrasse 2\
 , Bayerbach bei Ergoldsbach\, Bayern\, 84092\, Niederbayern\, Deutschland
X-APPLE-STRUCTURED-LOCATION;VALUE=URI;X-ADDRESS=Schlossstrasse 2\, Bayerbac
 h bei Ergoldsbach\, Bayern\, 84092\, Niederbayern\, Deutschland;X-APPLE-RA
 DIUS=100;X-TITLE=Schloss Peuerbach in Bayerbach bei Ergoldsbach:geo:0,0
END:VEVENT
BEGIN:VTIMEZONE
TZID:Europe/Berlin
X-LIC-LOCATION:Europe/Berlin
BEGIN:DAYLIGHT
DTSTART:20260329T030000
TZOFFSETFROM:+0100
TZOFFSETTO:+0200
TZNAME:CEST
END:DAYLIGHT
END:VTIMEZONE
END:VCALENDAR